BEGIN:VCALENDAR
VERSION:2.0
PRODID:-//zell.ortenaukultur.de//NONSGML kigkonsult.se iCalcreator 2.41.92//
CALSCALE:GREGORIAN
METHOD:PUBLISH
UID:38653863-3063-4338-b338-383464666264
X-WR-TIMEZONE:Europe/Berlin
X-LIC-LOCATION:Europe/Berlin
BEGIN:VEVENT
UID:591739-kulturportal@zell.ortenaukultur.de
DTSTAMP:20260425T114843Z
DESCRIPTION:Kurzbeschreibung:\n Oktoberfest der freiwillingen Bürgerwehr\n 
 Ort:\n Tellerbau (Kulturzentrum Obere Fabrik)\n Fabrikstr. 5\, 77736 Zell 
 am Harmersbach\n Veranstalter:\n Buergerwehr zell\n Termin:\n Beginn: 02.1
 0.2026\n Ende: 02.10.2026\n Link:\n Page détaillée
DTSTART;TZID=Europe/Berlin:20261002T000000
DTEND;TZID=Europe/Berlin:20261002T030000
LOCATION:Tellerbau (Kulturzentrum Obere Fabrik)\, Fabrikstr. 5\, 77736 Zell
  am Harmersbach
SUMMARY:Oktoberfest\, Tellerbau (Kulturzentrum Obere Fabrik)
X-ALT-DESC;FMTTYPE=text/html:<strong>Kurzbeschreibung:</strong><br/>Oktober
 fest der freiwillingen Bürgerwehr<br /><strong>Ort:</strong><br/>Tellerbau
  (Kulturzentrum Obere Fabrik)<br/>Fabrikstr. 5\, 77736 Zell am Harmersbach
 <br /><strong>Veranstalter:</strong><br/>Buergerwehr zell<br /><strong>Ter
 min:</strong><br/>Beginn: 02.10.2026<br/>Ende: 02.10.2026<br /><strong>Lin
 k:</strong><br/><a href='https://zell.ortenaukultur.de/fr/evenements/detai
 l/evenement/id/591739-oktoberfest/?vt=1'>Page détaillée </a>
END:VEVENT
END:VCALENDAR
