BEGIN:VCALENDAR
VERSION:2.0
PRODID:-//zell.ortenaukultur.de//NONSGML kigkonsult.se iCalcreator 2.41.92//
CALSCALE:GREGORIAN
METHOD:PUBLISH
UID:34616536-6636-4536-b761-373838623663
X-WR-TIMEZONE:Europe/Berlin
X-LIC-LOCATION:Europe/Berlin
BEGIN:VEVENT
UID:93945-kulturportal@zell.ortenaukultur.de
DTSTAMP:20260425T121551Z
DESCRIPTION:Kurzbeschreibung:\n Erleben Sie Hunderte kleine Gummienten entl
 ang des Harmersbaches. Die schnellste Schwimmente gewinnt.\n Ort:\n Teilst
 ück entlang des Harmersbaches\n Dorf 75\, 77784 Oberharmersbach\n Veransta
 lter:\n VdK - Verband der KriegsbeschädigtenOrtsverband OberharmersbachFri
 edebert StehleTalstraße 32Tel. 07837 / 293\n Termin:\n Beginn: 28.06.2026
 \n Ende: 28.06.2026\n Link:\n Page détaillée
DTSTART;TZID=Europe/Berlin:20260628T000000
DTEND;TZID=Europe/Berlin:20260628T030000
LOCATION:Teilstück entlang des Harmersbaches\, Dorf 75\, 77784 Oberharmersb
 ach
SUMMARY:Entenrennen beim Fußball-Ortsturnier\, beim Kunstrasenplatz
X-ALT-DESC;FMTTYPE=text/html:<strong>Kurzbeschreibung:</strong><br/>Erleben
  Sie Hunderte kleine Gummienten entlang des Harmersbaches. Die schnellste 
 Schwimmente gewinnt.<br /><strong>Ort:</strong><br/>Teilstück entlang des 
 Harmersbaches<br/>Dorf 75\, 77784 Oberharmersbach<br /><strong>Veranstalte
 r:</strong><br/>VdK - Verband der KriegsbeschädigtenOrtsverband Oberharmer
 sbachFriedebert StehleTalstraße 32Tel. 07837 / 293<br /><strong>Termin:</s
 trong><br/>Beginn: 28.06.2026<br/>Ende: 28.06.2026<br /><strong>Link:</str
 ong><br/><a href='https://zell.ortenaukultur.de/fr/evenements/detail/evene
 ment/id/93945-entenrennen-beim-fussball-ortsturnier/?vt=1'>Page détaillée 
 </a>
END:VEVENT
END:VCALENDAR
